BEGIN:VCALENDAR
VERSION:2.0
PRODID:-//U16 Liga - ECPv5.7.0//NONSGML v1.0//EN
CALSCALE:GREGORIAN
METHOD:PUBLISH
X-WR-CALNAME:U16 Liga
X-ORIGINAL-URL:https://jugend-liga-u16.de
X-WR-CALDESC:Events for U16 Liga
BEGIN:VTIMEZONE
TZID:Europe/Berlin
BEGIN:DAYLIGHT
TZOFFSETFROM:+0100
TZOFFSETTO:+0200
TZNAME:CEST
DTSTART:20260329T010000
END:DAYLIGHT
BEGIN:STANDARD
TZOFFSETFROM:+0200
TZOFFSETTO:+0100
TZNAME:CET
DTSTART:20261025T010000
END:STANDARD
END:VTIMEZONE
BEGIN:VEVENT
DTSTART;TZID=Europe/Berlin:20260214T090000
DTEND;TZID=Europe/Berlin:20260215T150000
DTSTAMP:20260424T154341
CREATED:20250914T142412Z
LAST-MODIFIED:20260111T101442Z
UID:1346-1771059600-1771167600@jugend-liga-u16.de
SUMMARY:Nero Cup 2026
DESCRIPTION:
URL:https://jugend-liga-u16.de/event/nero-cup-2025/
LOCATION:EW | Sporthalle Wiesbaden-Klarenthal\, Geschwister-Scholl-Straße\, Wiesbaden\, Hessen\, 65197\, Deutschland
ORGANIZER;CN="EW%20%7C%20Julia%20Frauendorf":MAILTO:volleyball@tus-ew.de
END:VEVENT
END:VCALENDAR