BEGIN:VCALENDAR
VERSION:2.0
PRODID:-//U16 Liga - ECPv5.7.0//NONSGML v1.0//EN
CALSCALE:GREGORIAN
METHOD:PUBLISH
X-WR-CALNAME:U16 Liga
X-ORIGINAL-URL:https://jugend-liga-u16.de
X-WR-CALDESC:Events for U16 Liga
BEGIN:VTIMEZONE
TZID:Europe/Berlin
BEGIN:DAYLIGHT
TZOFFSETFROM:+0100
TZOFFSETTO:+0200
TZNAME:CEST
DTSTART:20250330T010000
END:DAYLIGHT
BEGIN:STANDARD
TZOFFSETFROM:+0200
TZOFFSETTO:+0100
TZNAME:CET
DTSTART:20251026T010000
END:STANDARD
END:VTIMEZONE
BEGIN:VEVENT
DTSTART;TZID=Europe/Berlin:20250920T093000
DTEND;TZID=Europe/Berlin:20250921T160000
DTSTAMP:20260425T005045
CREATED:20250401T073221Z
LAST-MODIFIED:20250403T181828Z
UID:1330-1758360600-1758470400@jugend-liga-u16.de
SUMMARY:5. RPB U16 Cup
DESCRIPTION:
URL:https://jugend-liga-u16.de/event/5-rpb-u16-cup/
LOCATION:RPB | Turnhalle des Primo Levi Gymnasiums\, Woelckpromenade 11\, Berlin\, Berlin\, 13086\, Deutschland
ORGANIZER;CN="RPB%20%7C%20Torsten%20Manke":MAILTO:T.manke@gmx.de
END:VEVENT
END:VCALENDAR