BEGIN:VCALENDAR
VERSION:2.0
PRODID:-//U16 Liga - ECPv5.7.0//NONSGML v1.0//EN
CALSCALE:GREGORIAN
METHOD:PUBLISH
X-WR-CALNAME:U16 Liga
X-ORIGINAL-URL:https://jugend-liga-u16.de
X-WR-CALDESC:Veranstaltungen für U16 Liga
BEGIN:VTIMEZONE
TZID:Europe/Berlin
BEGIN:DAYLIGHT
TZOFFSETFROM:+0100
TZOFFSETTO:+0200
TZNAME:CEST
DTSTART:20210328T010000
END:DAYLIGHT
BEGIN:STANDARD
TZOFFSETFROM:+0200
TZOFFSETTO:+0100
TZNAME:CET
DTSTART:20211031T010000
END:STANDARD
END:VTIMEZONE
BEGIN:VEVENT
DTSTART;TZID=Europe/Berlin:20211128T090000
DTEND;TZID=Europe/Berlin:20211128T160000
DTSTAMP:20260421T124629
CREATED:20210720T092910Z
LAST-MODIFIED:20211202T111128Z
UID:1148-1638090000-1638115200@jugend-liga-u16.de
SUMMARY:B-Cup Hamburg
DESCRIPTION:
URL:https://jugend-liga-u16.de/event/a-cup-hamburg/
LOCATION:VCO | Landesleistungszentrum Hamburg\, Alter Teichweg 200\, Hamburg\, Hamburg\, 22049\, Deutschland
ORGANIZER;CN="VCO%20%7C%20Isabel%20Ja%C3%9F":MAILTO:jass@hvbv.de
END:VEVENT
END:VCALENDAR