BEGIN:VCALENDAR
VERSION:2.0
PRODID:-//U16 Liga - ECPv5.7.0//NONSGML v1.0//EN
CALSCALE:GREGORIAN
METHOD:PUBLISH
X-WR-CALNAME:U16 Liga
X-ORIGINAL-URL:https://jugend-liga-u16.de
X-WR-CALDESC:Veranstaltungen für U16 Liga
BEGIN:VTIMEZONE
TZID:Europe/Berlin
BEGIN:DAYLIGHT
TZOFFSETFROM:+0100
TZOFFSETTO:+0200
TZNAME:CEST
DTSTART:20220327T010000
END:DAYLIGHT
BEGIN:STANDARD
TZOFFSETFROM:+0200
TZOFFSETTO:+0100
TZNAME:CET
DTSTART:20221030T010000
END:STANDARD
END:VTIMEZONE
BEGIN:VEVENT
DTSTART;TZID=Europe/Berlin:20221001T090000
DTEND;TZID=Europe/Berlin:20221002T153000
DTSTAMP:20260421T140443
CREATED:20220329T111751Z
LAST-MODIFIED:20220329T112044Z
UID:1245-1664614800-1664724600@jugend-liga-u16.de
SUMMARY:2. RPB U16-Cup
DESCRIPTION:
URL:https://jugend-liga-u16.de/event/2-rpb-u16-cup/
LOCATION:RPB | Haupthalle\, Sredzkistraße 8\, Berlin\, Berlin\, 10435\, Deutschland
ORGANIZER;CN="RPB%20%7C%20Torsten%20Manke":MAILTO:t.manke@gmx.de
END:VEVENT
END:VCALENDAR